BEGIN:VCALENDAR
VERSION:2.0
PRODID:-//Har-Ber Meadows - ECPv6.15.18//NONSGML v1.0//EN
CALSCALE:GREGORIAN
METHOD:PUBLISH
X-ORIGINAL-URL:https://harbermeadows.org
X-WR-CALDESC:Events for Har-Ber Meadows
REFRESH-INTERVAL;VALUE=DURATION:PT1H
X-Robots-Tag:noindex
X-PUBLISHED-TTL:PT1H
BEGIN:VTIMEZONE
TZID:America/Chicago
BEGIN:DAYLIGHT
TZOFFSETFROM:-0600
TZOFFSETTO:-0500
TZNAME:CDT
DTSTART:20160313T080000
END:DAYLIGHT
BEGIN:STANDARD
TZOFFSETFROM:-0500
TZOFFSETTO:-0600
TZNAME:CST
DTSTART:20161106T070000
END:STANDARD
BEGIN:DAYLIGHT
TZOFFSETFROM:-0600
TZOFFSETTO:-0500
TZNAME:CDT
DTSTART:20170312T080000
END:DAYLIGHT
BEGIN:STANDARD
TZOFFSETFROM:-0500
TZOFFSETTO:-0600
TZNAME:CST
DTSTART:20171105T070000
END:STANDARD
BEGIN:DAYLIGHT
TZOFFSETFROM:-0600
TZOFFSETTO:-0500
TZNAME:CDT
DTSTART:20180311T080000
END:DAYLIGHT
BEGIN:STANDARD
TZOFFSETFROM:-0500
TZOFFSETTO:-0600
TZNAME:CST
DTSTART:20181104T070000
END:STANDARD
END:VTIMEZONE
BEGIN:VEVENT
DTSTART;VALUE=DATE:20170601
DTEND;VALUE=DATE:20170602
DTSTAMP:20260421T071417
CREATED:20161105T215450Z
LAST-MODIFIED:20161105T223614Z
UID:10000616-1496275200-1496361599@harbermeadows.org
SUMMARY:Recycle Trash Pickup
DESCRIPTION:
URL:https://harbermeadows.org/event/recycle-trash-pickup/2017-06-01/
LOCATION:Har-Ber Meadows\, P.O. Box 7152\, Springdale\, 72762\, United States
CATEGORIES:Trash Reminder
ATTACH;FMTTYPE=image/png:https://harbermeadows.org/wp-content/uploads/2016/11/Recycle.png
GEO:36.1867442;-94.1288141
X-APPLE-STRUCTURED-LOCATION;VALUE=URI;X-ADDRESS=Har-Ber Meadows P.O. Box 7152 Springdale 72762 United States;X-APPLE-RADIUS=500;X-TITLE=P.O. Box 7152:geo:-94.1288141,36.1867442
END:VEVENT
END:VCALENDAR